BEGIN:VCALENDAR
VERSION:2.0
PRODID:-//habitat-2021.firespring.org//NONSGML kigkonsult.se iCalcreator 2.
 30.10//
CALSCALE:GREGORIAN
METHOD:PUBLISH
UID:37e9306d-2de8-4c46-ba51-2618fc22e146
X-WR-CALDESC:
X-WR-RELCALID:4e0927d352e6e04724d37235f15a397a
X-WR-TIMEZONE:America/Chicago
BEGIN:VTIMEZONE
TZID:America/Chicago
BEGIN:STANDARD
TZNAME:CST
DTSTART:20301103T020000
TZOFFSETFROM:-0500
TZOFFSETTO:-0600
RDATE:20311102T020000
RDATE:20321107T020000
END:STANDARD
BEGIN:DAYLIGHT
TZNAME:CDT
DTSTART:20310309T020000
TZOFFSETFROM:-0600
TZOFFSETTO:-0500
RDATE:20320314T020000
END:DAYLIGHT
END:VTIMEZONE
BEGIN:VEVENT
UID:d448cf15-ae26-4702-9e9c-1d72a93b8718
DTSTAMP:20260424T040732Z
DESCRIPTION:
DTSTART;TZID=America/Chicago:20310906T090000
DTEND;TZID=America/Chicago:20310906T100000
LOCATION:
SUMMARY:Build It Day
END:VEVENT
END:VCALENDAR
