BEGIN:VCALENDAR
VERSION:2.0
PRODID:-//habitat-2021.firespring.org//NONSGML kigkonsult.se iCalcreator 2.
 30.10//
CALSCALE:GREGORIAN
METHOD:PUBLISH
UID:7cfbd378-21bf-4096-8ac7-968bced67371
X-WR-CALDESC:
X-WR-RELCALID:d6610c89b5e51ad5fe728a30405623a5
X-WR-TIMEZONE:America/Chicago
BEGIN:VTIMEZONE
TZID:America/Chicago
BEGIN:STANDARD
TZNAME:CST
DTSTART:20301103T020000
TZOFFSETFROM:-0500
TZOFFSETTO:-0600
RDATE:20311102T020000
RDATE:20321107T020000
END:STANDARD
BEGIN:DAYLIGHT
TZNAME:CDT
DTSTART:20310309T020000
TZOFFSETFROM:-0600
TZOFFSETTO:-0500
RDATE:20320314T020000
RDATE:20330313T020000
END:DAYLIGHT
END:VTIMEZONE
BEGIN:VEVENT
UID:8e6fe47a-5be2-4c11-8d21-11c9f4cee8f5
DTSTAMP:20260424T040232Z
DESCRIPTION:
DTSTART;TZID=America/Chicago:20310912T183000
DTEND;TZID=America/Chicago:20310912T200000
LOCATION:
SUMMARY:Board Meeting
END:VEVENT
END:VCALENDAR
