BEGIN:VCALENDAR
VERSION:2.0
PRODID:-//habitat-2021.firespring.org//NONSGML kigkonsult.se iCalcreator 2.
 30.10//
CALSCALE:GREGORIAN
METHOD:PUBLISH
UID:b2d7511b-275e-4669-bff3-ca402e9de92d
X-WR-CALDESC:
X-WR-RELCALID:549ce4395035cdc40ecf1cfc6c052b09
X-WR-TIMEZONE:America/Chicago
BEGIN:VTIMEZONE
TZID:America/Chicago
BEGIN:STANDARD
TZNAME:CST
DTSTART:20301103T020000
TZOFFSETFROM:-0500
TZOFFSETTO:-0600
RDATE:20311102T020000
RDATE:20321107T020000
END:STANDARD
BEGIN:DAYLIGHT
TZNAME:CDT
DTSTART:20310309T020000
TZOFFSETFROM:-0600
TZOFFSETTO:-0500
RDATE:20320314T020000
RDATE:20330313T020000
END:DAYLIGHT
END:VTIMEZONE
BEGIN:VEVENT
UID:d16b7142-6c57-4396-a505-bc7ab657982c
DTSTAMP:20260424T041029Z
DESCRIPTION:
DTSTART;TZID=America/Chicago:20310920T090000
DTEND;TZID=America/Chicago:20310920T100000
LOCATION:
SUMMARY:Build It Day
END:VEVENT
END:VCALENDAR
