BEGIN:VCALENDAR
VERSION:2.0
PRODID:-//habitat-2021.firespring.org//NONSGML kigkonsult.se iCalcreator 2.
 30.10//
CALSCALE:GREGORIAN
METHOD:PUBLISH
UID:14f47c00-fae0-4495-9805-3ffdfd30b3ac
X-WR-CALDESC:
X-WR-RELCALID:1c0daeafd57b65d48f4606e7185c9b81
X-WR-TIMEZONE:America/Chicago
BEGIN:VTIMEZONE
TZID:America/Chicago
BEGIN:STANDARD
TZNAME:CST
DTSTART:20301103T020000
TZOFFSETFROM:-0500
TZOFFSETTO:-0600
RDATE:20311102T020000
RDATE:20321107T020000
END:STANDARD
BEGIN:DAYLIGHT
TZNAME:CDT
DTSTART:20310309T020000
TZOFFSETFROM:-0600
TZOFFSETTO:-0500
RDATE:20320314T020000
RDATE:20330313T020000
END:DAYLIGHT
END:VTIMEZONE
BEGIN:VEVENT
UID:5b18699a-5a01-4dac-8ae0-b5f2445b4479
DTSTAMP:20260424T052442Z
DESCRIPTION:
DTSTART;TZID=America/Chicago:20311004T090000
DTEND;TZID=America/Chicago:20311004T100000
LOCATION:
SUMMARY:Build It Day
END:VEVENT
END:VCALENDAR
