BEGIN:VCALENDAR
VERSION:2.0
PRODID:-//habitat-2021.firespring.org//NONSGML kigkonsult.se iCalcreator 2.
 30.10//
CALSCALE:GREGORIAN
METHOD:PUBLISH
UID:e3d7e57e-7c42-49ce-9d7f-3336766432a2
X-WR-CALDESC:
X-WR-RELCALID:ca49ada2e196fb1141e4edc8b0750dda
X-WR-TIMEZONE:America/Chicago
BEGIN:VTIMEZONE
TZID:America/Chicago
BEGIN:STANDARD
TZNAME:CST
DTSTART:20301103T020000
TZOFFSETFROM:-0500
TZOFFSETTO:-0600
RDATE:20311102T020000
RDATE:20321107T020000
END:STANDARD
BEGIN:DAYLIGHT
TZNAME:CDT
DTSTART:20310309T020000
TZOFFSETFROM:-0600
TZOFFSETTO:-0500
RDATE:20320314T020000
RDATE:20330313T020000
END:DAYLIGHT
END:VTIMEZONE
BEGIN:VEVENT
UID:6cff3ca6-0577-4a5d-ab5e-828a4eaf81a9
DTSTAMP:20260424T065946Z
DESCRIPTION:
DTSTART;TZID=America/Chicago:20311101T090000
DTEND;TZID=America/Chicago:20311101T100000
LOCATION:
SUMMARY:Build It Day
END:VEVENT
END:VCALENDAR
