BEGIN:VCALENDAR
VERSION:2.0
PRODID:-//habitat-2021.firespring.org//NONSGML kigkonsult.se iCalcreator 2.
 30.10//
CALSCALE:GREGORIAN
METHOD:PUBLISH
UID:e537334d-38c2-4880-8f83-49241f427fe0
X-WR-CALDESC:
X-WR-RELCALID:3fea2c5092707d7056ba2005744459e4
X-WR-TIMEZONE:America/Chicago
BEGIN:VTIMEZONE
TZID:America/Chicago
BEGIN:STANDARD
TZNAME:CST
DTSTART:20311102T020000
TZOFFSETFROM:-0500
TZOFFSETTO:-0600
RDATE:20321107T020000
END:STANDARD
BEGIN:DAYLIGHT
TZNAME:CDT
DTSTART:20310309T020000
TZOFFSETFROM:-0600
TZOFFSETTO:-0500
RDATE:20320314T020000
RDATE:20330313T020000
END:DAYLIGHT
END:VTIMEZONE
BEGIN:VEVENT
UID:c192962a-60f9-44e9-bf84-a9effae4d919
DTSTAMP:20260424T070122Z
DESCRIPTION:
DTSTART;TZID=America/Chicago:20311114T183000
DTEND;TZID=America/Chicago:20311114T200000
LOCATION:
SUMMARY:Board Meeting
END:VEVENT
END:VCALENDAR
