BEGIN:VCALENDAR
VERSION:2.0
PRODID:-//habitat-2021.firespring.org//NONSGML kigkonsult.se iCalcreator 2.
 30.10//
CALSCALE:GREGORIAN
METHOD:PUBLISH
UID:bb38ae11-5f00-4593-92cb-fbb092789b62
X-WR-CALDESC:
X-WR-RELCALID:7da5093899fe2786c5cad592b573bffc
X-WR-TIMEZONE:America/Chicago
BEGIN:VTIMEZONE
TZID:America/Chicago
BEGIN:STANDARD
TZNAME:CST
DTSTART:20311102T020000
TZOFFSETFROM:-0500
TZOFFSETTO:-0600
RDATE:20321107T020000
END:STANDARD
BEGIN:DAYLIGHT
TZNAME:CDT
DTSTART:20310309T020000
TZOFFSETFROM:-0600
TZOFFSETTO:-0500
RDATE:20320314T020000
RDATE:20330313T020000
END:DAYLIGHT
END:VTIMEZONE
BEGIN:VEVENT
UID:151b7cf7-dfa4-4025-8694-983cce626447
DTSTAMP:20260424T070122Z
DESCRIPTION:
DTSTART;TZID=America/Chicago:20311115T090000
DTEND;TZID=America/Chicago:20311115T100000
LOCATION:
SUMMARY:Build It Day
END:VEVENT
END:VCALENDAR
