BEGIN:VCALENDAR
VERSION:2.0
PRODID:-//habitat-2021.firespring.org//NONSGML kigkonsult.se iCalcreator 2.
 30.10//
CALSCALE:GREGORIAN
METHOD:PUBLISH
UID:efc29dec-1946-43aa-a878-b9b72cd3d7f7
X-WR-CALDESC:
X-WR-RELCALID:375cafcd82736cd6161b27711e171992
X-WR-TIMEZONE:America/Chicago
BEGIN:VTIMEZONE
TZID:America/Chicago
BEGIN:STANDARD
TZNAME:CST
DTSTART:20311102T020000
TZOFFSETFROM:-0500
TZOFFSETTO:-0600
RDATE:20321107T020000
END:STANDARD
BEGIN:DAYLIGHT
TZNAME:CDT
DTSTART:20310309T020000
TZOFFSETFROM:-0600
TZOFFSETTO:-0500
RDATE:20320314T020000
RDATE:20330313T020000
END:DAYLIGHT
END:VTIMEZONE
BEGIN:VEVENT
UID:b182cd32-c3ba-4f63-9163-2075adc5178e
DTSTAMP:20260424T065946Z
DESCRIPTION:
DTSTART;TZID=America/Chicago:20311129T090000
DTEND;TZID=America/Chicago:20311129T100000
LOCATION:
SUMMARY:Build It Day
END:VEVENT
END:VCALENDAR
