BEGIN:VCALENDAR
VERSION:2.0
PRODID:-//habitat-2021.firespring.org//NONSGML kigkonsult.se iCalcreator 2.
 30.10//
CALSCALE:GREGORIAN
METHOD:PUBLISH
UID:b561eed2-5e04-4bf7-b894-33bf02283046
X-WR-CALDESC:
X-WR-RELCALID:ce2a85a6a13b4b5ad0f1493bc1e789a8
X-WR-TIMEZONE:America/Chicago
BEGIN:VTIMEZONE
TZID:America/Chicago
BEGIN:STANDARD
TZNAME:CST
DTSTART:20311102T020000
TZOFFSETFROM:-0500
TZOFFSETTO:-0600
RDATE:20321107T020000
END:STANDARD
BEGIN:DAYLIGHT
TZNAME:CDT
DTSTART:20310309T020000
TZOFFSETFROM:-0600
TZOFFSETTO:-0500
RDATE:20320314T020000
RDATE:20330313T020000
END:DAYLIGHT
END:VTIMEZONE
BEGIN:VEVENT
UID:6bd9c5f3-35c7-4a67-8fca-eea81caad7bf
DTSTAMP:20260424T082623Z
DESCRIPTION:
DTSTART;TZID=America/Chicago:20311213T090000
DTEND;TZID=America/Chicago:20311213T100000
LOCATION:
SUMMARY:Build It Day
END:VEVENT
END:VCALENDAR
