BEGIN:VCALENDAR
VERSION:2.0
PRODID:-//habitat-2021.firespring.org//NONSGML kigkonsult.se iCalcreator 2.
 30.10//
CALSCALE:GREGORIAN
METHOD:PUBLISH
UID:aebdcae1-bf42-4653-aed6-e68952cdfa3f
X-WR-CALDESC:
X-WR-RELCALID:7ec1f4e7d1b03c25e4e8d3add31d01f4
X-WR-TIMEZONE:America/Chicago
BEGIN:VTIMEZONE
TZID:America/Chicago
BEGIN:STANDARD
TZNAME:CST
DTSTART:20311102T020000
TZOFFSETFROM:-0500
TZOFFSETTO:-0600
RDATE:20321107T020000
END:STANDARD
BEGIN:DAYLIGHT
TZNAME:CDT
DTSTART:20310309T020000
TZOFFSETFROM:-0600
TZOFFSETTO:-0500
RDATE:20320314T020000
RDATE:20330313T020000
END:DAYLIGHT
END:VTIMEZONE
BEGIN:VEVENT
UID:d615d04c-8c01-4410-99a4-ed08557c171c
DTSTAMP:20260424T082629Z
DESCRIPTION:
DTSTART;TZID=America/Chicago:20311227T090000
DTEND;TZID=America/Chicago:20311227T100000
LOCATION:
SUMMARY:Build It Day
END:VEVENT
END:VCALENDAR
